Package: MerfishData Version: 1.11.1 Command: /home/biocbuild/bbs-3.22-bioc/R/bin/R CMD check --install=check:MerfishData.install-out.txt --library=/home/biocbuild/bbs-3.22-bioc/R/site-library --timings MerfishData_1.11.1.tar.gz StartedAt: 2025-10-28 12:39:00 -0400 (Tue, 28 Oct 2025) EndedAt: 2025-10-28 12:58:03 -0400 (Tue, 28 Oct 2025) EllapsedTime: 1142.7 seconds RetCode: 0 Status: OK CheckDir: MerfishData.Rcheck Warnings: 0