Package: MerfishData Version: 1.12.0 Command: /home/biocbuild/bbs-3.22-bioc/R/bin/R CMD build --keep-empty-dirs --no-resave-data MerfishData StartedAt: 2025-10-30 11:37:51 -0400 (Thu, 30 Oct 2025) EndedAt: 2025-10-30 11:47:36 -0400 (Thu, 30 Oct 2025) EllapsedTime: 584.9 seconds RetCode: 0 Status: OK PackageFile: MerfishData_1.12.0.tar.gz PackageFileSize: 24.29 MiB