Package: MUGAExampleData Version: 1.26.0 Command: /home/biocbuild/bbs-3.20-bioc/R/bin/R CMD build --keep-empty-dirs --no-resave-data MUGAExampleData StartedAt: 2025-02-06 11:28:49 -0500 (Thu, 06 Feb 2025) EndedAt: 2025-02-06 11:29:00 -0500 (Thu, 06 Feb 2025) EllapsedTime: 11.0 seconds RetCode: 0 Status: OK PackageFile: MUGAExampleData_1.26.0.tar.gz PackageFileSize: 88.65 MiB