Package: MOFAdata Version: 1.22.0 Command: /home/biocbuild/bbs-3.20-bioc/R/bin/R CMD INSTALL MOFAdata StartedAt: 2025-02-11 10:55:15 -0500 (Tue, 11 Feb 2025) EndedAt: 2025-02-11 10:55:27 -0500 (Tue, 11 Feb 2025) EllapsedTime: 11.5 seconds RetCode: 0 Status: OK