Package: MOFAdata Version: 1.22.0 Command: /home/biocbuild/bbs-3.20-bioc/R/bin/R CMD check --install=check:MOFAdata.install-out.txt --library=/home/biocbuild/bbs-3.20-bioc/R/site-library --timings MOFAdata_1.22.0.tar.gz StartedAt: 2025-02-06 12:21:20 -0500 (Thu, 06 Feb 2025) EndedAt: 2025-02-06 12:22:37 -0500 (Thu, 06 Feb 2025) EllapsedTime: 76.7 seconds RetCode: 0 Status: OK CheckDir: MOFAdata.Rcheck Warnings: 0