Package: MOFAdata Version: 1.22.0 Command: /home/biocbuild/bbs-3.20-bioc/R/bin/R CMD build --keep-empty-dirs --no-resave-data MOFAdata StartedAt: 2025-02-11 11:28:31 -0500 (Tue, 11 Feb 2025) EndedAt: 2025-02-11 11:29:11 -0500 (Tue, 11 Feb 2025) EllapsedTime: 39.9 seconds RetCode: 0 Status: OK PackageFile: MOFAdata_1.22.0.tar.gz PackageFileSize: 44.23 MiB