Package: MEEBOdata Version: 1.46.0 Command: /home/biocbuild/bbs-3.21-bioc/R/bin/R CMD build --keep-empty-dirs --no-resave-data MEEBOdata StartedAt: 2025-10-14 11:27:05 -0400 (Tue, 14 Oct 2025) EndedAt: 2025-10-14 11:27:08 -0400 (Tue, 14 Oct 2025) EllapsedTime: 3.0 seconds RetCode: 0 Status: OK PackageFile: MEEBOdata_1.46.0.tar.gz PackageFileSize: 6.869 MiB