Package: MEDIPSData Version: 1.42.0 Command: /home/biocbuild/bbs-3.20-bioc/R/bin/R CMD INSTALL MEDIPSData StartedAt: 2025-02-11 10:55:28 -0500 (Tue, 11 Feb 2025) EndedAt: 2025-02-11 10:55:29 -0500 (Tue, 11 Feb 2025) EllapsedTime: 1.1 seconds RetCode: 0 Status: OK