Package: MEDIPSData Version: 1.42.0 Command: /home/biocbuild/bbs-3.20-bioc/R/bin/R CMD check --install=check:MEDIPSData.install-out.txt --library=/home/biocbuild/bbs-3.20-bioc/R/site-library --timings MEDIPSData_1.42.0.tar.gz StartedAt: 2025-02-06 12:17:13 -0500 (Thu, 06 Feb 2025) EndedAt: 2025-02-06 12:17:39 -0500 (Thu, 06 Feb 2025) EllapsedTime: 25.4 seconds RetCode: 0 Status: WARNINGS CheckDir: MEDIPSData.Rcheck Warnings: 2