Package: MAQCsubset Version: 1.48.0 Command: /home/biocbuild/bbs-3.22-bioc/R/bin/R CMD build --keep-empty-dirs --no-resave-data MAQCsubset StartedAt: 2025-11-18 11:43:50 -0500 (Tue, 18 Nov 2025) EndedAt: 2025-11-18 11:45:23 -0500 (Tue, 18 Nov 2025) EllapsedTime: 93.5 seconds RetCode: 0 Status: OK PackageFile: MAQCsubset_1.48.0.tar.gz PackageFileSize: 64.89 MiB