Package: MAQCsubset Version: 1.48.0 Maintainer: VJ Carey MaintainerEmail: stvjc at channing.harvard.edu git_url: https://git.bioconductor.org/packages/MAQCsubset git_branch: RELEASE_3_22 git_last_commit: da3b3ee git_last_commit_date: 2025-10-29 09:30:27 -0400 (Wed, 29 Oct 2025)