Package: MACSdata Version: 1.14.0 Command: /home/biocbuild/bbs-3.20-bioc/R/bin/R CMD check --install=check:MACSdata.install-out.txt --library=/home/biocbuild/bbs-3.20-bioc/R/site-library --timings MACSdata_1.14.0.tar.gz StartedAt: 2025-02-06 12:16:42 -0500 (Thu, 06 Feb 2025) EndedAt: 2025-02-06 12:16:53 -0500 (Thu, 06 Feb 2025) EllapsedTime: 11.0 seconds RetCode: 0 Status: OK CheckDir: MACSdata.Rcheck Warnings: 0