Package: MACSdata Version: 1.16.0 Command: /home/biocbuild/bbs-3.21-bioc/R/bin/R CMD build --keep-empty-dirs --no-resave-data MACSdata StartedAt: 2025-10-09 11:26:15 -0400 (Thu, 09 Oct 2025) EndedAt: 2025-10-09 11:26:16 -0400 (Thu, 09 Oct 2025) EllapsedTime: 1.0 seconds RetCode: 0 Status: OK PackageFile: MACSdata_1.16.0.tar.gz PackageFileSize: 2.728 KiB