Package: LiebermanAidenHiC2009 Version: 0.48.0 Command: /home/biocbuild/bbs-3.22-bioc/R/bin/R CMD INSTALL LiebermanAidenHiC2009 StartedAt: 2025-11-18 10:57:10 -0500 (Tue, 18 Nov 2025) EndedAt: 2025-11-18 10:57:16 -0500 (Tue, 18 Nov 2025) EllapsedTime: 5.5 seconds RetCode: 0 Status: OK