Package: LiebermanAidenHiC2009 Version: 0.48.0 Command: /home/biocbuild/bbs-3.22-bioc/R/bin/R CMD build --keep-empty-dirs --no-resave-data LiebermanAidenHiC2009 StartedAt: 2025-11-18 11:42:41 -0500 (Tue, 18 Nov 2025) EndedAt: 2025-11-18 11:43:53 -0500 (Tue, 18 Nov 2025) EllapsedTime: 71.2 seconds RetCode: 0 Status: OK PackageFile: LiebermanAidenHiC2009_0.48.0.tar.gz PackageFileSize: 10.38 MiB