Package: LiebermanAidenHiC2009 Version: 0.46.0 Command: /home/biocbuild/bbs-3.21-bioc/R/bin/R CMD build --keep-empty-dirs --no-resave-data LiebermanAidenHiC2009 StartedAt: 2025-10-09 11:25:05 -0400 (Thu, 09 Oct 2025) EndedAt: 2025-10-09 11:26:15 -0400 (Thu, 09 Oct 2025) EllapsedTime: 69.6 seconds RetCode: 0 Status: OK PackageFile: LiebermanAidenHiC2009_0.46.0.tar.gz PackageFileSize: 10.38 MiB