Package: JohnsonKinaseData Version: 1.4.0 Command: /home/biocbuild/bbs-3.21-bioc/R/bin/R CMD INSTALL JohnsonKinaseData StartedAt: 2025-10-09 10:57:15 -0400 (Thu, 09 Oct 2025) EndedAt: 2025-10-09 10:57:28 -0400 (Thu, 09 Oct 2025) EllapsedTime: 13.8 seconds RetCode: 0 Status: OK