Package: JohnsonKinaseData Version: 1.4.0 Command: /home/biocbuild/bbs-3.21-bioc/R/bin/R CMD build --keep-empty-dirs --no-resave-data JohnsonKinaseData StartedAt: 2025-10-09 11:24:11 -0400 (Thu, 09 Oct 2025) EndedAt: 2025-10-09 11:25:05 -0400 (Thu, 09 Oct 2025) EllapsedTime: 53.6 seconds RetCode: 0 Status: OK PackageFile: JohnsonKinaseData_1.4.0.tar.gz PackageFileSize: 315.1 KiB