Package: JASPAR2016 Version: 1.38.0 Command: /home/biocbuild/bbs-3.22-bioc/R/bin/R CMD INSTALL JASPAR2016 StartedAt: 2025-11-18 10:56:28 -0500 (Tue, 18 Nov 2025) EndedAt: 2025-11-18 10:56:34 -0500 (Tue, 18 Nov 2025) EllapsedTime: 5.5 seconds RetCode: 0 Status: OK