Package: JASPAR2016 Version: 1.38.0 Command: /home/biocbuild/bbs-3.22-bioc/R/bin/R CMD check --install=check:JASPAR2016.install-out.txt --library=/home/biocbuild/bbs-3.22-bioc/R/site-library --timings JASPAR2016_1.38.0.tar.gz StartedAt: 2025-11-20 12:44:52 -0500 (Thu, 20 Nov 2025) EndedAt: 2025-11-20 12:45:09 -0500 (Thu, 20 Nov 2025) EllapsedTime: 16.7 seconds RetCode: 0 Status: OK CheckDir: JASPAR2016.Rcheck Warnings: 0