Package: JASPAR2016 Version: 1.38.0 Command: /home/biocbuild/bbs-3.22-bioc/R/bin/R CMD build --keep-empty-dirs --no-resave-data JASPAR2016 StartedAt: 2025-11-18 11:40:54 -0500 (Tue, 18 Nov 2025) EndedAt: 2025-11-18 11:40:59 -0500 (Tue, 18 Nov 2025) EllapsedTime: 5.0 seconds RetCode: 0 Status: OK PackageFile: JASPAR2016_1.38.0.tar.gz PackageFileSize: 8.715 MiB