Package: Iyer517 Version: 1.52.0 Maintainer: Vince Carey MaintainerEmail: stvjc at channing.harvard.edu git_url: https://git.bioconductor.org/packages/Iyer517 git_branch: RELEASE_3_22 git_last_commit: aabf081 git_last_commit_date: 2025-10-29 09:30:22 -0500 (Wed, 29 Oct 2025)