Package: Illumina450ProbeVariants.db Version: 1.42.0 Command: /home/biocbuild/bbs-3.20-bioc/R/bin/R CMD INSTALL Illumina450ProbeVariants.db StartedAt: 2025-02-13 10:55:14 -0500 (Thu, 13 Feb 2025) EndedAt: 2025-02-13 10:55:18 -0500 (Thu, 13 Feb 2025) EllapsedTime: 3.5 seconds RetCode: 0 Status: OK