Package: Illumina450ProbeVariants.db Version: 1.42.0 Maintainer: Tiffany Morris MaintainerEmail: tiffany.morris at ucl.ac.uk git_url: https://git.bioconductor.org/packages/Illumina450ProbeVariants.db git_branch: RELEASE_3_20 git_last_commit: 74df751 git_last_commit_date: 2024-10-29 09:37:53 -0500 (Tue, 29 Oct 2024)