Package: ITALICSData Version: 2.44.0 Command: /home/biocbuild/bbs-3.20-bioc/R/bin/R CMD INSTALL ITALICSData StartedAt: 2025-02-06 10:55:27 -0500 (Thu, 06 Feb 2025) EndedAt: 2025-02-06 10:55:37 -0500 (Thu, 06 Feb 2025) EllapsedTime: 9.9 seconds RetCode: 0 Status: OK