Package: IHWpaper Version: 1.36.0 Command: /home/biocbuild/bbs-3.21-bioc/R/bin/R CMD build --keep-empty-dirs --no-resave-data IHWpaper StartedAt: 2025-10-09 11:23:38 -0400 (Thu, 09 Oct 2025) EndedAt: 2025-10-09 11:27:15 -0400 (Thu, 09 Oct 2025) EllapsedTime: 216.3 seconds RetCode: 0 Status: OK PackageFile: IHWpaper_1.36.0.tar.gz PackageFileSize: 75.42 MiB