Package: HumanAffyData Version: 1.32.0 Command: /home/biocbuild/bbs-3.20-bioc/R/bin/R CMD build --keep-empty-dirs --no-resave-data HumanAffyData StartedAt: 2025-02-06 11:22:54 -0500 (Thu, 06 Feb 2025) EndedAt: 2025-02-06 11:23:20 -0500 (Thu, 06 Feb 2025) EllapsedTime: 25.8 seconds RetCode: 0 Status: OK PackageFile: HumanAffyData_1.32.0.tar.gz PackageFileSize: 157.4 KiB