Package: HumanAffyData Version: 1.34.0 Command: /home/biocbuild/bbs-3.21-bioc/R/bin/R CMD build --keep-empty-dirs --no-resave-data HumanAffyData StartedAt: 2025-10-02 11:23:56 -0400 (Thu, 02 Oct 2025) EndedAt: 2025-10-02 11:24:23 -0400 (Thu, 02 Oct 2025) EllapsedTime: 26.9 seconds RetCode: 0 Status: OK PackageFile: HumanAffyData_1.34.0.tar.gz PackageFileSize: 157.1 KiB