Package: Hiiragi2013 Version: 1.44.2 Command: /home/biocbuild/bbs-3.21-bioc/R/bin/R CMD INSTALL Hiiragi2013 StartedAt: 2025-10-09 10:57:40 -0400 (Thu, 09 Oct 2025) EndedAt: 2025-10-09 10:57:59 -0400 (Thu, 09 Oct 2025) EllapsedTime: 18.6 seconds RetCode: 0 Status: OK