Package: HiContactsData Version: 1.8.0 Command: /home/biocbuild/bbs-3.20-bioc/R/bin/R CMD check --install=check:HiContactsData.install-out.txt --library=/home/biocbuild/bbs-3.20-bioc/R/site-library --timings HiContactsData_1.8.0.tar.gz StartedAt: 2025-02-11 12:11:46 -0500 (Tue, 11 Feb 2025) EndedAt: 2025-02-11 12:13:30 -0500 (Tue, 11 Feb 2025) EllapsedTime: 104.3 seconds RetCode: 0 Status: OK CheckDir: HiContactsData.Rcheck Warnings: 0