Package: HiCDataLymphoblast Version: 1.42.0 Command: /home/biocbuild/bbs-3.20-bioc/R/bin/R CMD check --install=check:HiCDataLymphoblast.install-out.txt --library=/home/biocbuild/bbs-3.20-bioc/R/site-library --timings HiCDataLymphoblast_1.42.0.tar.gz StartedAt: 2025-01-30 12:10:54 -0500 (Thu, 30 Jan 2025) EndedAt: 2025-01-30 12:11:16 -0500 (Thu, 30 Jan 2025) EllapsedTime: 21.6 seconds RetCode: 0 Status: OK CheckDir: HiCDataLymphoblast.Rcheck Warnings: 0