Package: HiCDataLymphoblast Version: 1.42.0 Command: /home/biocbuild/bbs-3.20-bioc/R/bin/R CMD build --keep-empty-dirs --no-resave-data HiCDataLymphoblast StartedAt: 2025-01-30 11:23:04 -0500 (Thu, 30 Jan 2025) EndedAt: 2025-01-30 11:23:35 -0500 (Thu, 30 Jan 2025) EllapsedTime: 31.4 seconds RetCode: 0 Status: OK PackageFile: HiCDataLymphoblast_1.42.0.tar.gz PackageFileSize: 16.52 MiB