Package: HiCDataLymphoblast Version: 1.44.0 Command: /home/biocbuild/bbs-3.21-bioc/R/bin/R CMD build --keep-empty-dirs --no-resave-data HiCDataLymphoblast StartedAt: 2025-10-09 11:22:28 -0400 (Thu, 09 Oct 2025) EndedAt: 2025-10-09 11:23:00 -0400 (Thu, 09 Oct 2025) EllapsedTime: 31.9 seconds RetCode: 0 Status: OK PackageFile: HiCDataLymphoblast_1.44.0.tar.gz PackageFileSize: 16.52 MiB