Package: HiCDataHumanIMR90 Version: 1.30.0 Command: /home/biocbuild/bbs-3.22-bioc/R/bin/R CMD INSTALL HiCDataHumanIMR90 StartedAt: 2025-11-18 10:56:01 -0500 (Tue, 18 Nov 2025) EndedAt: 2025-11-18 10:56:08 -0500 (Tue, 18 Nov 2025) EllapsedTime: 7.1 seconds RetCode: 0 Status: OK