Package: HiCDataHumanIMR90 Version: 1.30.0 Command: /home/biocbuild/bbs-3.22-bioc/R/bin/R CMD build --keep-empty-dirs --no-resave-data HiCDataHumanIMR90 StartedAt: 2025-11-18 11:37:00 -0500 (Tue, 18 Nov 2025) EndedAt: 2025-11-18 11:37:54 -0500 (Tue, 18 Nov 2025) EllapsedTime: 54.7 seconds RetCode: 0 Status: OK PackageFile: HiCDataHumanIMR90_1.30.0.tar.gz PackageFileSize: 70.64 MiB