Package: HiCDataHumanIMR90 Version: 1.28.0 Command: /home/biocbuild/bbs-3.21-bioc/R/bin/R CMD check --install=check:HiCDataHumanIMR90.install-out.txt --library=/home/biocbuild/bbs-3.21-bioc/R/site-library --timings HiCDataHumanIMR90_1.28.0.tar.gz StartedAt: 2025-10-16 12:24:55 -0400 (Thu, 16 Oct 2025) EndedAt: 2025-10-16 12:27:04 -0400 (Thu, 16 Oct 2025) EllapsedTime: 129.5 seconds RetCode: 0 Status: WARNINGS CheckDir: HiCDataHumanIMR90.Rcheck Warnings: 1