Package: HiBED Version: 1.4.0 Command: /home/biocbuild/bbs-3.20-bioc/R/bin/R CMD INSTALL HiBED StartedAt: 2025-02-06 11:04:28 -0500 (Thu, 06 Feb 2025) EndedAt: 2025-02-06 11:05:06 -0500 (Thu, 06 Feb 2025) EllapsedTime: 38.2 seconds RetCode: 0 Status: OK