Package: HiBED Version: 1.4.0 Command: /home/biocbuild/bbs-3.20-bioc/R/bin/R CMD check --install=check:HiBED.install-out.txt --library=/home/biocbuild/bbs-3.20-bioc/R/site-library --timings HiBED_1.4.0.tar.gz StartedAt: 2025-01-30 12:10:35 -0500 (Thu, 30 Jan 2025) EndedAt: 2025-01-30 12:16:04 -0500 (Thu, 30 Jan 2025) EllapsedTime: 329.2 seconds RetCode: 0 Status: OK CheckDir: HiBED.Rcheck Warnings: 0