Package: HelloRangesData Version: 1.32.0 Command: /home/biocbuild/bbs-3.20-bioc/R/bin/R CMD INSTALL HelloRangesData StartedAt: 2025-02-11 10:55:47 -0500 (Tue, 11 Feb 2025) EndedAt: 2025-02-11 10:55:48 -0500 (Tue, 11 Feb 2025) EllapsedTime: 1.0 seconds RetCode: 0 Status: OK