Package: HelloRangesData Version: 1.32.0 Command: /home/biocbuild/bbs-3.20-bioc/R/bin/R CMD build --keep-empty-dirs --no-resave-data HelloRangesData StartedAt: 2025-02-11 11:21:59 -0500 (Tue, 11 Feb 2025) EndedAt: 2025-02-11 11:22:35 -0500 (Tue, 11 Feb 2025) EllapsedTime: 35.5 seconds RetCode: 0 Status: OK PackageFile: HelloRangesData_1.32.0.tar.gz PackageFileSize: 45.73 MiB