Package: HelloRangesData Version: 1.34.0 Command: /home/biocbuild/bbs-3.21-bioc/R/bin/R CMD check --install=check:HelloRangesData.install-out.txt --library=/home/biocbuild/bbs-3.21-bioc/R/site-library --timings HelloRangesData_1.34.0.tar.gz StartedAt: 2025-10-16 12:24:08 -0400 (Thu, 16 Oct 2025) EndedAt: 2025-10-16 12:24:27 -0400 (Thu, 16 Oct 2025) EllapsedTime: 19.0 seconds RetCode: 0 Status: OK CheckDir: HelloRangesData.Rcheck Warnings: 0