Package: HarmonizedTCGAData Version: 1.28.0 Command: /home/biocbuild/bbs-3.20-bioc/R/bin/R CMD check --install=check:HarmonizedTCGAData.install-out.txt --library=/home/biocbuild/bbs-3.20-bioc/R/site-library --timings HarmonizedTCGAData_1.28.0.tar.gz StartedAt: 2025-02-13 12:08:04 -0500 (Thu, 13 Feb 2025) EndedAt: 2025-02-13 12:10:10 -0500 (Thu, 13 Feb 2025) EllapsedTime: 125.8 seconds RetCode: 0 Status: OK CheckDir: HarmonizedTCGAData.Rcheck Warnings: 0