Package: HarmanData Version: 1.34.0 Command: /home/biocbuild/bbs-3.20-bioc/R/bin/R CMD check --install=check:HarmanData.install-out.txt --library=/home/biocbuild/bbs-3.20-bioc/R/site-library --timings HarmanData_1.34.0.tar.gz StartedAt: 2025-02-13 12:08:02 -0500 (Thu, 13 Feb 2025) EndedAt: 2025-02-13 12:08:33 -0500 (Thu, 13 Feb 2025) EllapsedTime: 30.3 seconds RetCode: 0 Status: OK CheckDir: HarmanData.Rcheck Warnings: 0