Package: HarmanData Version: 1.36.0 Command: /home/biocbuild/bbs-3.21-bioc/R/bin/R CMD INSTALL HarmanData StartedAt: 2025-10-16 10:55:35 -0400 (Thu, 16 Oct 2025) EndedAt: 2025-10-16 10:55:52 -0400 (Thu, 16 Oct 2025) EllapsedTime: 17.6 seconds RetCode: 0 Status: OK