Package: HSMMSingleCell Version: 1.28.0 Command: /home/biocbuild/bbs-3.21-bioc/R/bin/R CMD build --keep-empty-dirs --no-resave-data HSMMSingleCell StartedAt: 2025-09-30 11:23:00 -0400 (Tue, 30 Sep 2025) EndedAt: 2025-09-30 11:23:02 -0400 (Tue, 30 Sep 2025) EllapsedTime: 2.0 seconds RetCode: 0 Status: OK PackageFile: HSMMSingleCell_1.28.0.tar.gz PackageFileSize: 16.09 MiB