Package: HMP16SData Version: 1.30.0 Command: /home/biocbuild/bbs-3.22-bioc/R/bin/R CMD check --install=check:HMP16SData.install-out.txt --library=/home/biocbuild/bbs-3.22-bioc/R/site-library --timings HMP16SData_1.30.0.tar.gz StartedAt: 2025-11-06 12:28:59 -0500 (Thu, 06 Nov 2025) EndedAt: 2025-11-06 12:36:00 -0500 (Thu, 06 Nov 2025) EllapsedTime: 421.4 seconds RetCode: 0 Status: OK CheckDir: HMP16SData.Rcheck Warnings: 0