Package: HMP16SData Version: 1.28.0 Command: /home/biocbuild/bbs-3.21-bioc/R/bin/R CMD INSTALL HMP16SData StartedAt: 2025-10-02 10:58:57 -0400 (Thu, 02 Oct 2025) EndedAt: 2025-10-02 10:59:26 -0400 (Thu, 02 Oct 2025) EllapsedTime: 29.4 seconds RetCode: 0 Status: OK