Package: HMP16SData Version: 1.28.0 Command: /home/biocbuild/bbs-3.21-bioc/R/bin/R CMD build --keep-empty-dirs --no-resave-data HMP16SData StartedAt: 2025-10-02 11:23:32 -0400 (Thu, 02 Oct 2025) EndedAt: 2025-10-02 11:25:59 -0400 (Thu, 02 Oct 2025) EllapsedTime: 146.2 seconds RetCode: 0 Status: OK PackageFile: HMP16SData_1.28.0.tar.gz PackageFileSize: 16.36 MiB