Package: HDCytoData Version: 1.28.0 Command: /home/biocbuild/bbs-3.21-bioc/R/bin/R CMD INSTALL HDCytoData StartedAt: 2025-10-16 11:04:51 -0400 (Thu, 16 Oct 2025) EndedAt: 2025-10-16 11:05:19 -0400 (Thu, 16 Oct 2025) EllapsedTime: 28.1 seconds RetCode: 0 Status: OK