Package: HD2013SGI Version: 1.48.0 Command: /home/biocbuild/bbs-3.21-bioc/R/bin/R CMD INSTALL HD2013SGI StartedAt: 2025-09-30 10:57:52 -0400 (Tue, 30 Sep 2025) EndedAt: 2025-09-30 10:58:08 -0400 (Tue, 30 Sep 2025) EllapsedTime: 15.7 seconds RetCode: 0 Status: OK